BEGIN:VCALENDAR
VERSION:2.0
PRODID:-//hacksw/handcal//NONSGML v1.0//EN
BEGIN:VEVENT
DTSTART:20160205T100000
DTEND:20160206T180000
LOCATION:Strate, École de Design \n27, Avenue de la Division Leclerc \n92310 SEVRES
ORGANIZER;CN=Bureau Strate Alumni:MAILTO:alumni@strate.design
SUMMARY:JPO de Strate
DESCRIPTION:\nRendez-vous le vendredi 5 et samedi 6 février pour les Journées Portes Ouvertes de Strate 2016.\nVendredi 5 et samedi 6 février Strate expose dans toute l'école les projets des étudiants.\nUne très ...
URL:https://www.stratealumni.org/fr/event/jpo-de-strate/2016/02/05/253
BEGIN:VALARM
TRIGGER:-P0DT1H0M0S
ACTION:DISPLAY
END:VALARM
END:VEVENT
END:VCALENDAR