BEGIN:VCALENDAR
VERSION:2.0
PRODID:-//hacksw/handcal//NONSGML v1.0//EN
BEGIN:VEVENT
DTSTART:20150206T180000
DTEND:20150206T200000
LOCATION:les 2moiselles \n5, Grande Rue \n92310 SEVRES
ORGANIZER;CN=Rémi Fréchou:MAILTO:rfrechou@hotmail.com
SUMMARY:Afterwork Alumni
DESCRIPTION:Lors des journées portes ouvertes de Strate et à l'occasion de la prochaine réunion du bureau, Strate Collège Alumni propose à tous les anciens de se retrouver autour d'un verre au "2moiselles", à...
URL:https://www.stratealumni.org/fr/event/afterwork-alumni/2015/02/06/187
BEGIN:VALARM
TRIGGER:-P0DT1H0M0S
ACTION:DISPLAY
END:VALARM
END:VEVENT
END:VCALENDAR