BEGIN:VCALENDAR
VERSION:2.0
PRODID:-//hacksw/handcal//NONSGML v1.0//EN
BEGIN:VEVENT
DTSTART:20141015T190000
DTEND:20141015T230000
LOCATION:French Beer Factory \n176, Rue Montmartre \n75002 PARIS
ORGANIZER;CN=Rémi Fréchou:MAILTO:rfrechou@hotmail.com
SUMMARY:Afterwork Alumni
DESCRIPTION:Le bureau organise une soirée informelle au French Beer Factory, à Paris, le mercredi 15 octobre à partir de 19h.\nL'occasion de venir nous rencontrer, de discuter de ce que peut faire Strate Collège ...
URL:https://www.stratealumni.org/fr/event/afterwork-alumni/2014/10/15/133
BEGIN:VALARM
TRIGGER:-P0DT1H0M0S
ACTION:DISPLAY
END:VALARM
END:VEVENT
END:VCALENDAR